BEGIN:VCALENDAR
VERSION:2.0
PRODID:-//Swedenborgskyrkan - ECPv6.15.17//NONSGML v1.0//EN
CALSCALE:GREGORIAN
METHOD:PUBLISH
X-WR-CALNAME:Swedenborgskyrkan
X-ORIGINAL-URL:https://swedenborgskyrkan.se
X-WR-CALDESC:Händelser för Swedenborgskyrkan
REFRESH-INTERVAL;VALUE=DURATION:PT1H
X-Robots-Tag:noindex
X-PUBLISHED-TTL:PT1H
BEGIN:VTIMEZONE
TZID:Europe/Stockholm
BEGIN:DAYLIGHT
TZOFFSETFROM:+0100
TZOFFSETTO:+0200
TZNAME:CEST
DTSTART:20250330T010000
END:DAYLIGHT
BEGIN:STANDARD
TZOFFSETFROM:+0200
TZOFFSETTO:+0100
TZNAME:CET
DTSTART:20251026T010000
END:STANDARD
BEGIN:DAYLIGHT
TZOFFSETFROM:+0100
TZOFFSETTO:+0200
TZNAME:CEST
DTSTART:20260329T010000
END:DAYLIGHT
BEGIN:STANDARD
TZOFFSETFROM:+0200
TZOFFSETTO:+0100
TZNAME:CET
DTSTART:20261025T010000
END:STANDARD
BEGIN:DAYLIGHT
TZOFFSETFROM:+0100
TZOFFSETTO:+0200
TZNAME:CEST
DTSTART:20270328T010000
END:DAYLIGHT
BEGIN:STANDARD
TZOFFSETFROM:+0200
TZOFFSETTO:+0100
TZNAME:CET
DTSTART:20271031T010000
END:STANDARD
END:VTIMEZONE
BEGIN:VEVENT
DTSTART;TZID=Europe/Stockholm:20260318T193000
DTEND;TZID=Europe/Stockholm:20260318T210000
DTSTAMP:20260424T114300
CREATED:20260210T114822Z
LAST-MODIFIED:20260318T114436Z
UID:10000137-1773862200-1773867600@swedenborgskyrkan.se
SUMMARY:Bibelstudium: Matteusevangeliet
DESCRIPTION:Vi läser Matteusevangeliet kap 21 – i Stjärnsalen i Tegnérlunden 7 och online via Zoom! \n\n\n\nMatteus 21 skildrar hur Herren träder in i Jerusalem\, vilket enligt Swedenborg motsvarar Herrens inträde i kyrkan och i människans inre liv. Åsnan och fölet betecknar det naturliga som nu underordnas det gudomliga\, och tempelrensningen visar hur sann gudsdyrkan kräver att självkärlek och världslig vinning drivs ut ur hjärtat. Fikonträdet pekar på en yttre fromhet utan kärlek och liv\, som saknar frukt. Kapitlet betonar att sann tro måste förenas med omvändelse\, kärlek till nästan och ett liv i handling. \n\n\n\nVälkommen till bibelstudium. \n\n\n\n\n\n\n\n\n\n\nHitta texten här\n\n\n\n\n\n\n\n\n\nAnmäl dig här
URL:https://swedenborgskyrkan.se/enstaka-evenemang/bibelstudium-180326
LOCATION:Swedenborgskyrkan\, Tegnérlunden 7\, Stockholm
CATEGORIES:Bibelstudium
ATTACH;FMTTYPE=image/jpeg:https://swedenborgskyrkan.se/wp-content/uploads/2025/02/Bibelstudium-1200x1500-1.jpg
END:VEVENT
END:VCALENDAR