BEGIN:VCALENDAR
VERSION:2.0
PRODID:-//Swedenborgskyrkan - ECPv6.15.17//NONSGML v1.0//EN
CALSCALE:GREGORIAN
METHOD:PUBLISH
X-ORIGINAL-URL:https://swedenborgskyrkan.se
X-WR-CALDESC:Händelser för Swedenborgskyrkan
REFRESH-INTERVAL;VALUE=DURATION:PT1H
X-Robots-Tag:noindex
X-PUBLISHED-TTL:PT1H
BEGIN:VTIMEZONE
TZID:Europe/Stockholm
BEGIN:DAYLIGHT
TZOFFSETFROM:+0100
TZOFFSETTO:+0200
TZNAME:CEST
DTSTART:20250330T010000
END:DAYLIGHT
BEGIN:STANDARD
TZOFFSETFROM:+0200
TZOFFSETTO:+0100
TZNAME:CET
DTSTART:20251026T010000
END:STANDARD
BEGIN:DAYLIGHT
TZOFFSETFROM:+0100
TZOFFSETTO:+0200
TZNAME:CEST
DTSTART:20260329T010000
END:DAYLIGHT
BEGIN:STANDARD
TZOFFSETFROM:+0200
TZOFFSETTO:+0100
TZNAME:CET
DTSTART:20261025T010000
END:STANDARD
BEGIN:DAYLIGHT
TZOFFSETFROM:+0100
TZOFFSETTO:+0200
TZNAME:CEST
DTSTART:20270328T010000
END:DAYLIGHT
BEGIN:STANDARD
TZOFFSETFROM:+0200
TZOFFSETTO:+0100
TZNAME:CET
DTSTART:20271031T010000
END:STANDARD
END:VTIMEZONE
BEGIN:VEVENT
DTSTART;TZID=Europe/Stockholm:20260513T193000
DTEND;TZID=Europe/Stockholm:20260513T210000
DTSTAMP:20260424T143002
CREATED:20260408T073822Z
LAST-MODIFIED:20260408T075012Z
UID:10000149-1778700600-1778706000@swedenborgskyrkan.se
SUMMARY:Bibelstudium: Lukasevangeliet
DESCRIPTION:Vi läser Lukasevangeliet kap 24 – i Stjärnsalen i Tegnérlunden 7 och online via Zoom! \n\n\n\nDen tomma graven visar början på en inre förändring\, där tidigare föreställningar om Herren inte längre räcker och något nytt måste ta form i människans sinne. \n\n\n\nÄnglarnas budskap till kvinnorna pekar på en uppvaknande insikt – att det gudomliga inte finns i det döda eller förflutna\, utan i det levande och närvarande. \n\n\n\nVandringen till Emmaus beskriver hur Herren stegvis öppnar Ordet och leder människan från oklarhet till inre förståelse. \n\n\n\nNär Herren slutligen visar sig för lärjungarna\, fullbordas denna process: det som först var dolt blir tydligt\, och en levande tro föds som förenar insikt med liv. \n\n\n\nVälkommen till bibelstudium. \n\n\n\n\n\n\n\n\n\n\nHitta texten här\n\n\n\n\n\n\n\n\n\nAnmäl dig här
URL:https://swedenborgskyrkan.se/enstaka-evenemang/bibelstudium-130526
LOCATION:Swedenborgskyrkan\, Tegnérlunden 7\, Stockholm
CATEGORIES:Bibelstudium
ATTACH;FMTTYPE=image/jpeg:https://swedenborgskyrkan.se/wp-content/uploads/2025/02/Bibelstudium-1200x1500-1.jpg
END:VEVENT
END:VCALENDAR